BEGIN:VCALENDAR
VERSION:2.0
PRODID:Imitheme.com
BEGIN:VEVENT
UID:20260419T162613-2139392838
DTSTAMP:20260419T162613
DTSTART:20260419T162613Z
DTEND:20260419T162613Z
SUMMARY:Ejercicios Espirituales Discípulos Verbum Dei Enero 2025
LOCATION:
DESCRIPTION: 
END:VEVENT
END:VCALENDAR
