BEGIN:VCALENDAR
VERSION:2.0
PRODID:Imitheme.com
BEGIN:VEVENT
UID:20260419T162618-1024781058
DTSTAMP:20260419T162618
DTSTART:20260419T162618Z
DTEND:20260419T162618Z
SUMMARY:FaMVD Pascua 2024 Bucaramanga
LOCATION:
DESCRIPTION: <div id="pl-17598"  class="panel-layout" ><div id="pg-17598-0"  class="panel-grid panel-no-style" ><div id="pgc-17598-0-0"  class="panel-grid-cell"  data-weight="1" ><div id="panel-17598-0-0-0" class="so-panel widget widget_text panel-first-child panel-last-child" data-index="0" data-style="{&quot;background_image_attachment&quot;:false,&quot;background_display&quot;:&quot;tile&quot;,&quot;background_image_size&quot;:&quot;full&quot;,&quot;background_image_opacity&quot;:&quot;100&quot;,&quot;border_thickness&quot;:&quot;1px&quot;}" >			<div class="textwidget"><p><strong>FaMVD BUCARAMANGA<br />
Pascua Abierta<br />
</strong>«El da la vida por tí»</p>
<p>Casa Verbum Dei Bucaramanga<br />
Calle 41 # 27A-67</p>
<p>En las mañanas del 28 al 30 de Marzo 2024 (Jueves a Sábado)</p>
<p>Aporte Voluntario</p>
<p><strong>¿Deseas preguntar primero?</strong><br />
<a href="http://wa.me/573027529184" target="_blank" rel="noopener noreferrer">Click Aqui para iniciar conversación por Whatsapp</a></p>
<p>Info: 302 7529184</p>
<p>&nbsp;</p>
</div>
		</div></div></div></div>

<style type="text/css" class="panels-style" data-panels-style-for-post="17598">@import url(https://verbumdei.org/colombia/wp-content/plugins/siteorigin-panels/css/front-flex.min.css); #pgc-17598-0-0 { width:100%;width:calc(100% - ( 0 * 30px ) ) } #pl-17598 .so-panel { margin-bottom:30px } #pl-17598 .so-panel:last-of-type { margin-bottom:0px } @media (max-width:780px){ #pg-17598-0.panel-no-style, #pg-17598-0.panel-has-style > .panel-row-style, #pg-17598-0 { -webkit-flex-direction:column;-ms-flex-direction:column;flex-direction:column } #pg-17598-0 > .panel-grid-cell , #pg-17598-0 > .panel-row-style > .panel-grid-cell { width:100%;margin-right:0 } #pl-17598 .panel-grid-cell { padding:0 } #pl-17598 .panel-grid .panel-grid-cell-empty { display:none } #pl-17598 .panel-grid .panel-grid-cell-mobile-last { margin-bottom:0px }  } </style>
END:VEVENT
END:VCALENDAR
