BEGIN:VCALENDAR
VERSION:2.0
PRODID:Imitheme.com
BEGIN:VEVENT
UID:20260419T174013-2025776176
DTSTAMP:20260419T174013
DTSTART:20260419T174013Z
DTEND:20260419T174013Z
SUMMARY:Siloe - Encuentro personal con Jesucristo
LOCATION:
DESCRIPTION: PERSONAS EN CONDICIÓN DE DISCAPACIDAD VISUAL Y MOTRIZ
Comunidad Siloe / Verbum Dei quiere invitarlo con su familia y/o acompañante
¡ A UN ENCUENTRO PERSONAL CON JESUCRISTO !

Encuentros online
Todos los lunes 7.30 pm

Inscríbete en el link:
https://forms.gle/ceXEkfnABX8s3xWu9

o contáctanos via Whatsapp:
Lina 304 4486082
Fabio 320 7998658
Alejandra 300 4613961
END:VEVENT
END:VCALENDAR
