BEGIN:VCALENDAR
VERSION:2.0
PRODID:Imitheme.com
BEGIN:VEVENT
UID:20260419T173843-67684416
DTSTAMP:20260419T173843
DTSTART:20260419T173843Z
DTEND:20260419T173843Z
SUMMARY:Pentecostés FaMVD Bogotá
LOCATION:
DESCRIPTION: ❤‍🔥❤‍🔥❤‍🔥❤‍🔥❤‍🔥❤‍🔥❤‍🔥
Cincuenta días después del Domingo de Resurrección Jesucristo envió el Espíritu Santo sobre los Apóstoles.

La Iglesia católica le considera como una de las fechas mas importantes del año litúrgico, ya que se cumplió la promesa de Cristo a los apóstoles, la cual indica que el Padre enviaría al Espíritu Santo para guiarlos en la misión evangelizadora.

Impulsados por el Espíritu
Los esperamos a todos este Sábado 27 de Mayo de 2023 desde las 3 pm en la Casa de la Comunidad Verbum Dei de Bogotá, para conmemorar Pentecostés y podamos así también ser partícipes de los dones y los frutos del Espíritu Santo.

Te invitamos a traer un par de frutas y comida de sal para compartir en familia.
Aporte: $10,000

¡Los esperamos!
END:VEVENT
END:VCALENDAR
