BEGIN:VCALENDAR
VERSION:2.0
PRODID:Imitheme.com
BEGIN:VEVENT
UID:20260419T180116-2056906645
DTSTAMP:20260419T180116
DTSTART:20260419T180116Z
DTEND:20260419T180116Z
SUMMARY:Medellín Celebración Aniversario 60 y Conversión de San Pablo
LOCATION:
DESCRIPTION: <div dir="auto">El 60 aniversario de Verbum Dei lo vivimos todos en lazos de fraternidad.</div>
<div dir="auto">Domingo 22 de Enero desde las 9 am en Centro San José Pueblo Viejo</div>
<div dir="auto">FaMVD Medellín les espera</div>
<div dir="auto">Pasión por la Palabra</div>
END:VEVENT
END:VCALENDAR
