BEGIN:VCALENDAR
VERSION:2.0
PRODID:Imitheme.com
BEGIN:VEVENT
UID:20260419T175956-631015441
DTSTAMP:20260419T175956
DTSTART:20260419T175956Z
DTEND:20260419T175956Z
SUMMARY:Retiro Espiritual en Silencio para Jóvenes Medellín
LOCATION:
DESCRIPTION: Vivamos con Autenticidad (Efe 4,15)

<strong>Retiro Espiritual especial para Jóvenes</strong>
Cerremos el año con nuevas expectativas para recibir el año 2023

Valor: $250.000
Bancolombia Ahorro a la Mano 0300 395 0564

Mas información vía whstasapp
Ingrese y chatee directamente en los siguientes links:

<a href="https://wa.me/573003950564" target="_blank" rel="noopener noreferrer">https://wa.me/573003950564</a>
<a href="https://wa.me/573004325636" target="_blank" rel="noopener noreferrer">https://wa.me/573004325636</a>
END:VEVENT
END:VCALENDAR
