BEGIN:VCALENDAR
VERSION:2.0
PRODID:Imitheme.com
BEGIN:VEVENT
UID:20260419T174513-702094590
DTSTAMP:20260419T174513
DTSTART:20260419T174513Z
DTEND:20260419T174513Z
SUMMARY:Velada de Parejas Agosto 2022 FaMVD Medellín
LOCATION:
DESCRIPTION: Mi amor es lo único que necesitas (2 Cor 12,9)
Una oportunidad para reencontrarte con tu pareja y con Dios

Donación por pareja: $70.000
Cuenta Ahorros Bancolombia 54002791644
a nombre de Fraternidad Misionera Verbum Dei
END:VEVENT
END:VCALENDAR
