BEGIN:VCALENDAR
VERSION:2.0
PRODID:Imitheme.com
BEGIN:VEVENT
UID:20260419T174012-1365145802
DTSTAMP:20260419T174012
DTSTART:20260419T174012Z
DTEND:20260419T174012Z
SUMMARY:Convivencia Verbum Dei Medellín Nov 2022
LOCATION:
DESCRIPTION: Surgirá un mundo nuevo
Puente Festivo del 5 al 7 de Noviembre

INSCRIPCIONES EN EL SIGUIENTE LINK:
<a href="https://forms.gle/uxTzKmtNofwKvoAw9" target="_blank" rel="noopener noreferrer">https://forms.gle/uxTzKmtNofwKvoAw9</a>

Aporte $250.000
Incluye Estadía y Alimentación

Cuenta de Ahorros BANCOLOMBIA Nro 5400 0000 201
a nombre Ramón Cortes , cédula de extranjería 651947
END:VEVENT
END:VCALENDAR
