BEGIN:VCALENDAR
VERSION:2.0
PRODID:Imitheme.com
BEGIN:VEVENT
UID:20260419T180010-263725573
DTSTAMP:20260419T180010
DTSTART:20260419T180010Z
DTEND:20260419T180010Z
SUMMARY:Retiro de Contemplación Agosto Verbum Dei Medellín
LOCATION:
DESCRIPTION: Encontré al amor de mi alma, lo abracé y no lo soltaré
Casa Centro, desde las 8 am
Iniciamos con Eucaristía
Aporte: $10.000
END:VEVENT
END:VCALENDAR
