BEGIN:VCALENDAR
VERSION:2.0
PRODID:Imitheme.com
BEGIN:VEVENT
UID:20260419T180003-893051416
DTSTAMP:20260419T180003
DTSTART:20260419T180003Z
DTEND:20260419T180003Z
SUMMARY:Retiro de Duelo, Medellín Presencial Agosto 2022
LOCATION:
DESCRIPTION: Retiro de Duelo
Medellín
END:VEVENT
END:VCALENDAR
