BEGIN:VCALENDAR
VERSION:2.0
PRODID:Imitheme.com
BEGIN:VEVENT
UID:20260419T175012-845861763
DTSTAMP:20260419T175012
DTSTART:20260419T175012Z
DTEND:20260419T175012Z
SUMMARY:APLAZADO - Convivencia Grupo Siloé FaMVD Medellín
LOCATION:
DESCRIPTION: Querida familia Verbum Dei cordial saludo
Les informamos que la convivencia a realizarse el 24 de julio en casa centro organizada por el grupo siloé ha sido aplazada por motivo del mantenimiento del Acueducto anunciado por empresas públicas de Medellín
Agradecemos su comprensión y prontamente estaremos dando una nueva fecha esperamos su participación

---
---

🙏
La bondad y el amor de Dios está siempre presente entre nosotros.
Reafirmemos nuestra fe en Él.

El Grupo Siloé de la Familia Misionera Verbum Dei Medellín invita a personas con o sin discapacidad a participar en nuestra convivencia fraterna.

Ven y Verás
<del>Domingo 24 de Julio 2022</del>
<del>8:30 am a 4:00 pm en Casa Centro</del>

<del><span style="font-size: 18pt;">Inscríbete en el link:</span></del>
⬇️
<del>https://forms.gle/iSjni17D8AEBoVmF9</del>

Aporte $12.000
Info Adicional: 300 2699943
www.verbumdei.org/colombia/medellin
Te esperamos! 😄
END:VEVENT
END:VCALENDAR
