BEGIN:VCALENDAR
VERSION:2.0
PRODID:Imitheme.com
BEGIN:VEVENT
UID:20260419T180003-430778492
DTSTAMP:20260419T180003
DTSTART:20260419T180003Z
DTEND:20260419T180003Z
SUMMARY:Eucaristía Conmemorativa Aniversario Luctuoso Jaime Bonet VD Bucaramanga
LOCATION:
DESCRIPTION: Quinto aniversario luctuoso de nuestro fundador
Jaime Bonet
END:VEVENT
END:VCALENDAR
