BEGIN:VCALENDAR
VERSION:2.0
PRODID:Imitheme.com
BEGIN:VEVENT
UID:20260419T173731-91249485
DTSTAMP:20260419T173731
DTSTART:20260419T173731Z
DTEND:20260419T173731Z
SUMMARY:Pentecostés 2022 Verbum Dei Medellín
LOCATION:
DESCRIPTION: Muchos carismas, un mismo Espíritu
(1 Cor, 12-4)
Encuentro Presencial
Domingo de Pentecostés
Desde las 9 am, concluimos con Eucaristía a las 3 pm
Cierre 4pm

Aporte $10.000
<strong>Inscripciones en el link:</strong>
<strong>https://forms.gle/Zf6rnzy5VAu6vnzH7</strong>

Debes llevar tu almuerzo, Biblia, cuaderno y esfero
END:VEVENT
END:VCALENDAR
