BEGIN:VCALENDAR
VERSION:2.0
PRODID:Imitheme.com
BEGIN:VEVENT
UID:20260419T143320-1895705542
DTSTAMP:20260419T143320
DTSTART:20260419T143320Z
DTEND:20260419T143320Z
SUMMARY:Pascua Presencial Centro Misionero Casablanca
LOCATION:
DESCRIPTION: Estamos trabajando en conjunto los discípulos de la pre-escuela y escuela de apóstoles con mucha ilusión, en la preparación de la Pascua de este año en Casablanca
Dirigida a personas nuevas en la comunidad, contamos con cada uno de ustedes, que han conocido el amor de Dios a través de la comunidad para que hagamos misión con nuestra familia, nuestros amigos y seamos esas cuerdas humanas, instrumentos del Señor

Inscripciones en el link:
<a href="https://forms.gle/RJgkY9eopon4FyQr6" target="_blank" rel="noopener noreferrer">https://forms.gle/RJgkY9eopon4FyQr6</a>
END:VEVENT
END:VCALENDAR
