BEGIN:VCALENDAR
VERSION:2.0
PRODID:Imitheme.com
BEGIN:VEVENT
UID:20260419T125605-1412133024
DTSTAMP:20260419T125605
DTSTART:20260419T125605Z
DTEND:20260419T125605Z
SUMMARY:Retiro Semana Santa Presencial Palmira
LOCATION:
DESCRIPTION: Te invitamos al retiro de Semana Santa presencial que se realizará en Palmira, desde el Jueves 14 de abril al domingo 17 de abril
Lugar: instituto técnico Luis Amigó, calle 41 48-00 Palmira.
Más información al 3217894025
3041716853

<a href="https://forms.gle/RA4ibNVPULopY1ri9" target="_blank" rel="noopener noreferrer">https://forms.gle/RA4ibNVPULopY1ri9</a>
END:VEVENT
END:VCALENDAR
