BEGIN:VCALENDAR
VERSION:2.0
PRODID:Imitheme.com
BEGIN:VEVENT
UID:20260419T143243-65615848
DTSTAMP:20260419T143243
DTSTART:20260419T143243Z
DTEND:20260419T143243Z
SUMMARY:Retiro Semana Santa Presencial Cali
LOCATION:
DESCRIPTION: Te invitamos al retiro de Semana Santa presencial que se realizará en Cali, desde el Jueves 14 de abril al domingo 17 de abril
Lugar: Parroquia de la Santa infancia calle 3A esquina 23-17 Cali
Más información al 3105094813

<a href="https://forms.gle/DZmKuXpQxZuaLQff8" target="_blank" rel="noopener noreferrer">https://forms.gle/DZmKuXpQxZuaLQff8</a>
END:VEVENT
END:VCALENDAR
