BEGIN:VCALENDAR
VERSION:2.0
PRODID:Imitheme.com
BEGIN:VEVENT
UID:20260419T193012-254486325
DTSTAMP:20260419T193012
DTSTART:20260419T193012Z
DTEND:20260419T193012Z
SUMMARY:Retiro de Adoración FaMVD Medellín Agosto 2021
LOCATION:
DESCRIPTION: Retiro de Adoración
- Presencial en Casa Centro
- Virtual vía Zoom

Domingo 29 de Agosto 2021
9am a 12:30m

<strong>*Inscríbete en el link*</strong>
http://verbumdei.org/colombia/retirodeadoracion

Aporte Voluntario
Jesús te invita a beber del manantial de su amor
END:VEVENT
END:VCALENDAR
